BEGIN:VCALENDAR
VERSION:2.0
PRODID:-//hacksw/handcal//NONSGML v1.0//EN
BEGIN:VEVENT
SUMMARY:meeting allonne
UID:7a567884-c739-488f-a521-e01d35c8a07c
DTSTART:20260410T220000Z
DTEND:20260412T220000Z
LOCATION:Localisation   
CATEGORIES:Sportif
STATUS:
URL;VALUE=URI:https://www.segre-natation.com/evenements/2026/04/11/meeting-allonne-2431844
END:VEVENT
END:VCALENDAR
